BEGIN:VCALENDAR
VERSION:2.0
PRODID:-//AFL250 - ECPv6.6.4//NONSGML v1.0//EN
CALSCALE:GREGORIAN
METHOD:PUBLISH
X-ORIGINAL-URL:https://afl250.org
X-WR-CALDESC:Events for AFL250
REFRESH-INTERVAL;VALUE=DURATION:PT1H
X-Robots-Tag:noindex
X-PUBLISHED-TTL:PT1H
BEGIN:VTIMEZONE
TZID:America/New_York
BEGIN:DAYLIGHT
TZOFFSETFROM:-0500
TZOFFSETTO:-0400
TZNAME:EDT
DTSTART:20260308T070000
END:DAYLIGHT
BEGIN:STANDARD
TZOFFSETFROM:-0400
TZOFFSETTO:-0500
TZNAME:EST
DTSTART:20261101T060000
END:STANDARD
END:VTIMEZONE
BEGIN:VEVENT
DTSTART;TZID=America/New_York:20260506T193000
DTEND;TZID=America/New_York:20260506T203000
DTSTAMP:20260423T120925
CREATED:20260217T210830Z
LAST-MODIFIED:20260217T210830Z
UID:10001325-1778095800-1778099400@afl250.org
SUMMARY:AFL Speaker Series - Ted Hart
DESCRIPTION:AFL Speaker Series with Ted Hart and his new book “Vineyards to Victory”\nZoom link here: https://us06web.zoom.us/j/89810057838
URL:https://afl250.org/event/afl-speaker-series-ted-hart/
END:VEVENT
END:VCALENDAR